BEGIN:VCALENDAR
VERSION:2.0
PRODID:-//Kirschberghütte - ECPv6.15.20//NONSGML v1.0//EN
CALSCALE:GREGORIAN
METHOD:PUBLISH
X-ORIGINAL-URL:https://kirschberghuette.de
X-WR-CALDESC:Veranstaltungen für Kirschberghütte
REFRESH-INTERVAL;VALUE=DURATION:PT1H
X-Robots-Tag:noindex
X-PUBLISHED-TTL:PT1H
BEGIN:VTIMEZONE
TZID:UTC
BEGIN:STANDARD
TZOFFSETFROM:+0000
TZOFFSETTO:+0000
TZNAME:UTC
DTSTART:20230101T000000
END:STANDARD
END:VTIMEZONE
BEGIN:VEVENT
DTSTART;TZID=UTC:20240317T150000
DTEND;TZID=UTC:20240317T170000
DTSTAMP:20260425T102534
CREATED:20240107T175517Z
LAST-MODIFIED:20240317T084534Z
UID:10000066-1710687600-1710694800@kirschberghuette.de
SUMMARY:Bärlauchtag in der Kirschberghütte
DESCRIPTION:Bad Vilbel ist eines der größten geschlossenen Bärlauchgebiete Hessens. Ein Grund mehr\, eine Veranstaltung rund um den Bärlauch\, seine Verarbeitung aber auch seine giftigen Doppelgänger im Wald und auf den Streuobstwiesen zu machen. Verkostung im Anschluss an die Exkursion. \n* Für Vereinsmitglieder kostenfrei
URL:https://kirschberghuette.de/event/baerlauchtag-in-der-kirschberghuette
LOCATION:Kirschberghütte\, Kirschberghütte\, Bad Vilbel\, Hessen\, 61118\, Deutschland
CATEGORIES:Exkursionen,Kräuterwanderung
ATTACH;FMTTYPE=image/jpeg:https://kirschberghuette.de/wp-content/uploads/2024/01/240_F_8916156_EtVaWcTEYeWzBeC3tQJehHgELygKDpBH.jpg
END:VEVENT
END:VCALENDAR