BEGIN:VCALENDAR
VERSION:2.0
PRODID:-//Kirschberghütte - ECPv6.15.20//NONSGML v1.0//EN
CALSCALE:GREGORIAN
METHOD:PUBLISH
X-ORIGINAL-URL:https://kirschberghuette.de
X-WR-CALDESC:Veranstaltungen für Kirschberghütte
REFRESH-INTERVAL;VALUE=DURATION:PT1H
X-Robots-Tag:noindex
X-PUBLISHED-TTL:PT1H
BEGIN:VTIMEZONE
TZID:Europe/Berlin
BEGIN:DAYLIGHT
TZOFFSETFROM:+0100
TZOFFSETTO:+0200
TZNAME:CEST
DTSTART:20220327T010000
END:DAYLIGHT
BEGIN:STANDARD
TZOFFSETFROM:+0200
TZOFFSETTO:+0100
TZNAME:CET
DTSTART:20221030T010000
END:STANDARD
BEGIN:DAYLIGHT
TZOFFSETFROM:+0100
TZOFFSETTO:+0200
TZNAME:CEST
DTSTART:20230326T010000
END:DAYLIGHT
BEGIN:STANDARD
TZOFFSETFROM:+0200
TZOFFSETTO:+0100
TZNAME:CET
DTSTART:20231029T010000
END:STANDARD
BEGIN:DAYLIGHT
TZOFFSETFROM:+0100
TZOFFSETTO:+0200
TZNAME:CEST
DTSTART:20240331T010000
END:DAYLIGHT
BEGIN:STANDARD
TZOFFSETFROM:+0200
TZOFFSETTO:+0100
TZNAME:CET
DTSTART:20241027T010000
END:STANDARD
END:VTIMEZONE
BEGIN:VEVENT
DTSTART;TZID=Europe/Berlin:20231027T140000
DTEND;TZID=Europe/Berlin:20231027T170000
DTSTAMP:20260425T112214
CREATED:20240107T131334Z
LAST-MODIFIED:20240107T131334Z
UID:10000057-1698415200-1698426000@kirschberghuette.de
SUMMARY:4. Nachhaltigkeitsmesse Bad Vilbel
DESCRIPTION:Auch dieses Jahr findet die 4. Nachhaltigkeitswoche \, die das Netzwerk „Bad Vilbel Plastikfrei “ und Zero Waste Bad Vilbel e.V. organisiert\, statt. Als Unterstützer wird die KBH mit einem Stand an der Nachhaltigkeitsmesse vor Ort sein. \nWann: am 27.10.24  von 14:00 – 17:00 Uhr  \nWo: auf dem Niddaplatz/ Günther-Biwer-Platz  \nMehr als 25 Vereine\, Organisationen und Geschäfte\, die ihre Nachhaltigkeitskonzepte vorstellen\, werden mit der Messe die Woche eröffnen.   \nNachhaltigkeit ist ein stetiger Prozess\, jeder ist eingeladen seinen Beitrag zu leisten. Durch den gemeinsamen Austausch laden die Veranstalter ein\, sich gegenseitig zu inspirieren und zu motivieren\, um so bewusster und nachhaltiger unser Leben zu gestalten. \n  \n  \n  \n  \n 
URL:https://kirschberghuette.de/event/4-nachhaltigkeitsmesse-bad-vilbel
LOCATION:Günther-Biwer-Platz\, Günther-Biwer-Platz\, Niddastraße\, Bad Vilbel\, Hessen\, 61118
CATEGORIES:Aktion
ATTACH;FMTTYPE=image/jpeg:https://kirschberghuette.de/wp-content/uploads/2022/04/IMG_20220413_150928-scaled.jpg
END:VEVENT
END:VCALENDAR